BEGIN:VCALENDAR
VERSION:2.0
PRODID:-//eventon.com NONSGML v1.0//EN
CALSCALE:GREGORIAN
METHOD:PUBLISH
BEGIN:VEVENT
UID:69ec0405ccc59
DTSTAMP:20260425T000005Z
DTSTART:20260507T160000Z
DTEND:20260507T160000Z
LOCATION:
SUMMARY:Hs JvR - Reünie Kultuuraand (by Ls JvR saal)
DESCRIPTION:\nhttps://laerskooljanvanriebeeck.co.za/events/hs-jvr-reunie-ku
 ltuuraand-by-ls-jvr-saal/
URL:https://laerskooljanvanriebeeck.co.za/events/hs-jvr-reunie-kultuuraand-by-ls-jvr-saal/
END:VEVENT
END:VCALENDAR