BEGIN:VCALENDAR
VERSION:2.0
PRODID:-//eventon.com NONSGML v1.0//EN
CALSCALE:GREGORIAN
METHOD:PUBLISH
BEGIN:VEVENT
UID:69ebed1b22ae1
DTSTAMP:20260424T222219Z
DTSTART:20270318T000000Z
DTEND:20270318T235900Z
LOCATION:
SUMMARY:JvR Gholf Dag
DESCRIPTION:\nhttps://laerskooljanvanriebeeck.co.za/events/jvr-gholf-dag/
URL:https://laerskooljanvanriebeeck.co.za/events/jvr-gholf-dag/
END:VEVENT
END:VCALENDAR