BEGIN:VCALENDAR
VERSION:2.0
PRODID:-//eventon.com NONSGML v1.0//EN
CALSCALE:GREGORIAN
METHOD:PUBLISH
BEGIN:VEVENT
UID:69ebed7b47114
DTSTAMP:20260424T222355Z
DTSTART:20260522T000000Z
DTEND:20260522T235900Z
LOCATION:
SUMMARY:Skaak: Camps Bay Primary (WEG)
DESCRIPTION:\nhttps://laerskooljanvanriebeeck.co.za/events/skaak-camps-bay-
 primary-weg/
URL:https://laerskooljanvanriebeeck.co.za/events/skaak-camps-bay-primary-weg/
END:VEVENT
END:VCALENDAR