BEGIN:VCALENDAR
VERSION:2.0
PRODID:-//eventon.com NONSGML v1.0//EN
CALSCALE:GREGORIAN
METHOD:PUBLISH
BEGIN:VEVENT
UID:69ebed4e2d146
DTSTAMP:20260424T222310Z
DTSTART:20260519T000000Z
DTEND:20260519T235900Z
LOCATION:
SUMMARY:Hokkie: Curro Durbanville (TUIS) o.7 - o.13 S & D
DESCRIPTION:\nhttps://laerskooljanvanriebeeck.co.za/events/hokkie-curro-dur
 banville-tuis-o-7-o-13-s-d/
URL:https://laerskooljanvanriebeeck.co.za/events/hokkie-curro-durbanville-tuis-o-7-o-13-s-d/
END:VEVENT
END:VCALENDAR