BEGIN:VCALENDAR
VERSION:2.0
PRODID:-//eventon.com NONSGML v1.0//EN
CALSCALE:GREGORIAN
METHOD:PUBLISH
BEGIN:VEVENT
UID:69ec0561d2db6
DTSTAMP:20260425T000553Z
DTSTART:20260517T000000Z
DTEND:20260517T235900Z
LOCATION:
SUMMARY:Skaak: WP Proewe (Gansbaai)
DESCRIPTION:\nhttps://laerskooljanvanriebeeck.co.za/events/skaak-wp-proewe-
 gansbaai-2/
URL:https://laerskooljanvanriebeeck.co.za/events/skaak-wp-proewe-gansbaai-2/
END:VEVENT
END:VCALENDAR