BEGIN:VCALENDAR
VERSION:2.0
PRODID:-//eventon.com NONSGML v1.0//EN
CALSCALE:GREGORIAN
METHOD:PUBLISH
BEGIN:VEVENT
UID:69ebed9f6a91e
DTSTAMP:20260424T222431Z
DTSTART:20260516T000000Z
DTEND:20260516T235900Z
LOCATION:
SUMMARY:Skaak: WP Proewe (Gansbaai)
DESCRIPTION:\nhttps://laerskooljanvanriebeeck.co.za/events/skaak-wp-proewe-
 gansbaai/
URL:https://laerskooljanvanriebeeck.co.za/events/skaak-wp-proewe-gansbaai/
END:VEVENT
END:VCALENDAR