BEGIN:VCALENDAR
VERSION:2.0
PRODID:-//eventon.com NONSGML v1.0//EN
CALSCALE:GREGORIAN
METHOD:PUBLISH
BEGIN:VEVENT
UID:69ebed6d33570
DTSTAMP:20260424T222341Z
DTSTART:20260515T123000Z
DTEND:20260515T143000Z
LOCATION:
SUMMARY:Skaak: Hout Bay International School (TUIS)
DESCRIPTION:\nhttps://laerskooljanvanriebeeck.co.za/events/skaak-hout-bay-i
 nternational-school-tuis/
URL:https://laerskooljanvanriebeeck.co.za/events/skaak-hout-bay-international-school-tuis/
END:VEVENT
END:VCALENDAR