BEGIN:VCALENDAR
VERSION:2.0
PRODID:-//eventon.com NONSGML v1.0//EN
CALSCALE:GREGORIAN
METHOD:PUBLISH
BEGIN:VEVENT
UID:69ec04c67d58c
DTSTAMP:20260425T000318Z
DTSTART:20260508T123000Z
DTEND:20260508T143000Z
LOCATION:
SUMMARY:Skaak: Deutsche Internationale Schule Kapstadt (WEG)
DESCRIPTION:\nhttps://laerskooljanvanriebeeck.co.za/events/skaak-deutsche-i
 nternationale-schule-kapstadt-weg/
URL:https://laerskooljanvanriebeeck.co.za/events/skaak-deutsche-internationale-schule-kapstadt-weg/
END:VEVENT
END:VCALENDAR