BEGIN:VCALENDAR
VERSION:2.0
PRODID:-//eventon.com NONSGML v1.0//EN
CALSCALE:GREGORIAN
METHOD:PUBLISH
BEGIN:VEVENT
UID:69e786a66026a
DTSTAMP:20260421T141606Z
DTSTART:20260617T060000Z
DTEND:20260617T060000Z
LOCATION:
SUMMARY:Eksamen Sieketoetse
DESCRIPTION:\nhttps://laerskooljanvanriebeeck.co.za/events/eksamen-sieketoe
 tse/
URL:https://laerskooljanvanriebeeck.co.za/events/eksamen-sieketoetse/
END:VEVENT
END:VCALENDAR