BEGIN:VCALENDAR
VERSION:2.0
PRODID:-//eventon.com NONSGML v1.0//EN
CALSCALE:GREGORIAN
METHOD:PUBLISH
BEGIN:VEVENT
UID:69e833553b375
DTSTAMP:20260422T023253Z
DTSTART:20260601T000000Z
DTEND:20260617T235900Z
LOCATION:
SUMMARY:Gr.4-7: Skool verdaag om 13:15
DESCRIPTION:\nhttps://laerskooljanvanriebeeck.co.za/events/gr-4-7-skool-ver
 daag-om-1315/
URL:https://laerskooljanvanriebeeck.co.za/events/gr-4-7-skool-verdaag-om-1315/
END:VEVENT
END:VCALENDAR