BEGIN:VCALENDAR
VERSION:2.0
PRODID:-//eventon.com NONSGML v1.0//EN
CALSCALE:GREGORIAN
METHOD:PUBLISH
BEGIN:VEVENT
UID:69e8345e8aa78
DTSTAMP:20260422T023718Z
DTSTART:20260601T000000Z
DTEND:20260617T235900Z
LOCATION:
SUMMARY:Gr.1-3: Skool verdaag om 13:00
DESCRIPTION:\nhttps://laerskooljanvanriebeeck.co.za/events/gr-1-3-skool-ver
 daag-om-1300/
URL:https://laerskooljanvanriebeeck.co.za/events/gr-1-3-skool-verdaag-om-1300/
END:VEVENT
END:VCALENDAR