BEGIN:VCALENDAR
VERSION:2.0
PRODID:-//eventon.com NONSGML v1.0//EN
CALSCALE:GREGORIAN
METHOD:PUBLISH
BEGIN:VEVENT
UID:69e7870d963e9
DTSTAMP:20260421T141749Z
DTSTART:20260528T000000Z
DTEND:20260529T235900Z
LOCATION:
SUMMARY:Gr.7 verdaag om 13:00
DESCRIPTION:\nhttps://laerskooljanvanriebeeck.co.za/events/gr-7-verdaag-om-
 1300/
URL:https://laerskooljanvanriebeeck.co.za/events/gr-7-verdaag-om-1300/
END:VEVENT
END:VCALENDAR