BEGIN:VCALENDAR
VERSION:2.0
PRODID:-//eventon.com NONSGML v1.0//EN
CALSCALE:GREGORIAN
METHOD:PUBLISH
BEGIN:VEVENT
UID:69e7980be76c3
DTSTAMP:20260421T153019Z
DTSTART:20260427T000000Z
DTEND:20260426T235900Z
LOCATION:
SUMMARY:Keenen Faro (Onderwyser) verjaar
DESCRIPTION:\nhttps://laerskooljanvanriebeeck.co.za/events/keenen-faro-onde
 rwyser-verjaar/
URL:https://laerskooljanvanriebeeck.co.za/events/keenen-faro-onderwyser-verjaar/
END:VEVENT
END:VCALENDAR