BEGIN:VCALENDAR
VERSION:2.0
PRODID:-//eventon.com NONSGML v1.0//EN
CALSCALE:GREGORIAN
METHOD:PUBLISH
BEGIN:VEVENT
UID:69e8341d422bf
DTSTAMP:20260422T023613Z
DTSTART:20260527T000000Z
DTEND:20260527T235900Z
LOCATION:
SUMMARY:Netbal: Greenfield (TUIS)
DESCRIPTION:\nhttps://laerskooljanvanriebeeck.co.za/events/netbal-greenfiel
 d-tuis/
URL:https://laerskooljanvanriebeeck.co.za/events/netbal-greenfield-tuis/
END:VEVENT
END:VCALENDAR