BEGIN:VCALENDAR
VERSION:2.0
PRODID:-//eventon.com NONSGML v1.0//EN
CALSCALE:GREGORIAN
METHOD:PUBLISH
BEGIN:VEVENT
UID:69e8345bb7f81
DTSTAMP:20260422T023715Z
DTSTART:20260506T000000Z
DTEND:20260506T235900Z
LOCATION:
SUMMARY:Netbal: Kampsbaai (WEG) o.7 - o.13
DESCRIPTION:\nhttps://laerskooljanvanriebeeck.co.za/events/netbal-kampsbaai
 -weg-o-7-o-13/
URL:https://laerskooljanvanriebeeck.co.za/events/netbal-kampsbaai-weg-o-7-o-13/
END:VEVENT
END:VCALENDAR