BEGIN:VCALENDAR
VERSION:2.0
PRODID:-//eventon.com NONSGML v1.0//EN
CALSCALE:GREGORIAN
METHOD:PUBLISH
BEGIN:VEVENT
UID:69e83438affab
DTSTAMP:20260422T023640Z
DTSTART:20260429T000000Z
DTEND:20260429T235900Z
LOCATION:
SUMMARY:Netbal: Oakhurst (WEG) o.9 - o.13
DESCRIPTION:\nhttps://laerskooljanvanriebeeck.co.za/events/netbal-oakhurst-
 weg-o-9-o-13/
URL:https://laerskooljanvanriebeeck.co.za/events/netbal-oakhurst-weg-o-9-o-13/
END:VEVENT
END:VCALENDAR