BEGIN:VCALENDAR
VERSION:2.0
PRODID:-//eventon.com NONSGML v1.0//EN
CALSCALE:GREGORIAN
METHOD:PUBLISH
BEGIN:VEVENT
UID:69e7987591e95
DTSTAMP:20260421T153205Z
DTSTART:20260428T110000Z
DTEND:20260428T113000Z
LOCATION:
SUMMARY:Skrywersbesoek Gr4-7: Francois Bloemhof
DESCRIPTION:\nhttps://laerskooljanvanriebeeck.co.za/events/skrywersbesoek-g
 r4-7-francois-bloemhof/
URL:https://laerskooljanvanriebeeck.co.za/events/skrywersbesoek-gr4-7-francois-bloemhof/
END:VEVENT
END:VCALENDAR