BEGIN:VCALENDAR
VERSION:2.0
PRODID:-//eventon.com NONSGML v1.0//EN
CALSCALE:GREGORIAN
METHOD:PUBLISH
BEGIN:VEVENT
UID:69e797f75cf62
DTSTAMP:20260421T152959Z
DTSTART:20260428T000000Z
DTEND:20260428T235900Z
LOCATION:
SUMMARY:Hokkie: Van Riebeeckstrand (Dogters - WEG; Seuns - TUIS) o.7 - o.13
DESCRIPTION:\nhttps://laerskooljanvanriebeeck.co.za/events/hokkie-van-riebe
 eckstrand-dogters-weg-seuns-tuis-o-7-o-13/
URL:https://laerskooljanvanriebeeck.co.za/events/hokkie-van-riebeeckstrand-dogters-weg-seuns-tuis-o-7-o-13/
END:VEVENT
END:VCALENDAR