BEGIN:VCALENDAR
VERSION:2.0
PRODID:-//eventon.com NONSGML v1.0//EN
CALSCALE:GREGORIAN
METHOD:PUBLISH
BEGIN:VEVENT
UID:69e78711255f5
DTSTAMP:20260421T141753Z
DTSTART:20260422T000000Z
DTEND:20260422T235900Z
LOCATION:
SUMMARY:Netbal: Micklefield (TUIS) o.9 - o.13
DESCRIPTION:\nhttps://laerskooljanvanriebeeck.co.za/events/netbal-micklefie
 ld-tuis-o-9-o-13/
URL:https://laerskooljanvanriebeeck.co.za/events/netbal-micklefield-tuis-o-9-o-13/
END:VEVENT
END:VCALENDAR