BEGIN:VCALENDAR
VERSION:2.0
PRODID:-//eventon.com NONSGML v1.0//EN
CALSCALE:GREGORIAN
METHOD:PUBLISH
BEGIN:VEVENT
UID:69ebec52a5fa2
DTSTAMP:20260424T221858Z
DTSTART:20261109T000000Z
DTEND:20261109T235900Z
LOCATION:
SUMMARY:Eksamen Begin (Gr.7)
DESCRIPTION:\nhttps://laerskooljanvanriebeeck.co.za/events/eksamen-begin-gr
 -7/
URL:https://laerskooljanvanriebeeck.co.za/events/eksamen-begin-gr-7/
END:VEVENT
END:VCALENDAR