BEGIN:VCALENDAR
VERSION:2.0
PRODID:-//eventon.com NONSGML v1.0//EN
CALSCALE:GREGORIAN
METHOD:PUBLISH
BEGIN:VEVENT
UID:69e834777e58e
DTSTAMP:20260422T023743Z
DTSTART:20260803T160000Z
DTEND:20260803T160000Z
LOCATION:
SUMMARY:Hs JvR - Tafelbergkoorfees
DESCRIPTION:\nhttps://laerskooljanvanriebeeck.co.za/events/hs-jvr-tafelberg
 koorfees/
URL:https://laerskooljanvanriebeeck.co.za/events/hs-jvr-tafelbergkoorfees/
END:VEVENT
END:VCALENDAR