BEGIN:VCALENDAR
VERSION:2.0
PRODID:-//eventon.com NONSGML v1.0//EN
CALSCALE:GREGORIAN
METHOD:PUBLISH
BEGIN:VEVENT
UID:69e83470a3a7b
DTSTAMP:20260422T023736Z
DTSTART:20260714T000000Z
DTEND:20260714T235900Z
LOCATION:
SUMMARY:Rugby: Kliniek
DESCRIPTION:\nhttps://laerskooljanvanriebeeck.co.za/events/rugby-kliniek-2/
URL:https://laerskooljanvanriebeeck.co.za/events/rugby-kliniek-2/
END:VEVENT
END:VCALENDAR