BEGIN:VCALENDAR
VERSION:2.0
PRODID:-//eventon.com NONSGML v1.0//EN
CALSCALE:GREGORIAN
METHOD:PUBLISH
BEGIN:VEVENT
UID:69ebeca075f95
DTSTAMP:20260424T222016Z
DTSTART:20260925T000000Z
DTEND:20261005T235900Z
LOCATION:
SUMMARY:Skoolvakansie
DESCRIPTION:\nhttps://laerskooljanvanriebeeck.co.za/events/skoolvakansie-2/
URL:https://laerskooljanvanriebeeck.co.za/events/skoolvakansie-2/
END:VEVENT
END:VCALENDAR