BEGIN:VCALENDAR
VERSION:2.0
PRODID:-//eventon.com NONSGML v1.0//EN
CALSCALE:GREGORIAN
METHOD:PUBLISH
BEGIN:VEVENT
UID:69e834a6890cb
DTSTAMP:20260422T023830Z
DTSTART:20260917T000000Z
DTEND:20260917T235900Z
LOCATION:
SUMMARY:Konsert: Optrede 2
DESCRIPTION:\nhttps://laerskooljanvanriebeeck.co.za/events/konsert-optrede-
 2/
URL:https://laerskooljanvanriebeeck.co.za/events/konsert-optrede-2/
END:VEVENT
END:VCALENDAR