BEGIN:VCALENDAR
VERSION:2.0
PRODID:-//eventon.com NONSGML v1.0//EN
CALSCALE:GREGORIAN
METHOD:PUBLISH
BEGIN:VEVENT
UID:69e7871e92933
DTSTAMP:20260421T141806Z
DTSTART:20260907T000000Z
DTEND:20260907T235900Z
LOCATION:
SUMMARY:Somersport Begin
DESCRIPTION:\nhttps://laerskooljanvanriebeeck.co.za/events/somersport-begin
 /
URL:https://laerskooljanvanriebeeck.co.za/events/somersport-begin/
END:VEVENT
END:VCALENDAR