BEGIN:VCALENDAR
VERSION:2.0
PRODID:-//eventon.com NONSGML v1.0//EN
CALSCALE:GREGORIAN
METHOD:PUBLISH
BEGIN:VEVENT
UID:69ebec50b9a93
DTSTAMP:20260424T221856Z
DTSTART:20260606T000000Z
DTEND:20260606T235900Z
LOCATION:
SUMMARY:Veiling
DESCRIPTION:\nhttps://laerskooljanvanriebeeck.co.za/events/veiling/
URL:https://laerskooljanvanriebeeck.co.za/events/veiling/
END:VEVENT
END:VCALENDAR