BEGIN:VCALENDAR
VERSION:2.0
PRODID:-//eventon.com NONSGML v1.0//EN
CALSCALE:GREGORIAN
METHOD:PUBLISH
BEGIN:VEVENT
UID:69ebeca06287d
DTSTAMP:20260424T222016Z
DTSTART:20260528T000000Z
DTEND:20260528T235900Z
LOCATION:
SUMMARY:Sport Eindig
DESCRIPTION:\nhttps://laerskooljanvanriebeeck.co.za/events/sport-eindig/
URL:https://laerskooljanvanriebeeck.co.za/events/sport-eindig/
END:VEVENT
END:VCALENDAR