BEGIN:VCALENDAR
VERSION:2.0
PRODID:-//eventon.com NONSGML v1.0//EN
CALSCALE:GREGORIAN
METHOD:PUBLISH
BEGIN:VEVENT
UID:69e797bd8877a
DTSTAMP:20260421T152901Z
DTSTART:20260522T000000Z
DTEND:20260522T235900Z
LOCATION:
SUMMARY:Assessering (tentatief)
DESCRIPTION:\nhttps://laerskooljanvanriebeeck.co.za/events/assessering-tent
 atief/
URL:https://laerskooljanvanriebeeck.co.za/events/assessering-tentatief/
END:VEVENT
END:VCALENDAR