BEGIN:VCALENDAR
VERSION:2.0
PRODID:-//eventon.com NONSGML v1.0//EN
CALSCALE:GREGORIAN
METHOD:PUBLISH
BEGIN:VEVENT
UID:69e797ba06682
DTSTAMP:20260421T152858Z
DTSTART:20260515T000000Z
DTEND:20260515T235900Z
LOCATION:
SUMMARY:TOETS: SW
DESCRIPTION:\nhttps://laerskooljanvanriebeeck.co.za/events/toets-sw-2/
URL:https://laerskooljanvanriebeeck.co.za/events/toets-sw-2/
END:VEVENT
END:VCALENDAR