BEGIN:VCALENDAR
VERSION:2.0
PRODID:-//eventon.com NONSGML v1.0//EN
CALSCALE:GREGORIAN
METHOD:PUBLISH
BEGIN:VEVENT
UID:69ebedc21036e
DTSTAMP:20260424T222506Z
DTSTART:20260508T000000Z
DTEND:20260508T235900Z
LOCATION:
SUMMARY:Hokkie: Edgemead (TUIS) - Almal
DESCRIPTION:\nhttps://laerskooljanvanriebeeck.co.za/events/hokkie-edgemead-
 tuis-almal/
URL:https://laerskooljanvanriebeeck.co.za/events/hokkie-edgemead-tuis-almal/
END:VEVENT
END:VCALENDAR